BEGIN:VCALENDAR
VERSION:2.0
PRODID:-//Horyzontalny Klub Dyskusyjny - ECPv6.15.20//NONSGML v1.0//EN
CALSCALE:GREGORIAN
METHOD:PUBLISH
X-ORIGINAL-URL:https://horyzontalny.pl
X-WR-CALDESC:Wydarzenia dla Horyzontalny Klub Dyskusyjny
REFRESH-INTERVAL;VALUE=DURATION:PT1H
X-Robots-Tag:noindex
X-PUBLISHED-TTL:PT1H
BEGIN:VTIMEZONE
TZID:Europe/Warsaw
BEGIN:DAYLIGHT
TZOFFSETFROM:+0100
TZOFFSETTO:+0200
TZNAME:CEST
DTSTART:20240331T010000
END:DAYLIGHT
BEGIN:STANDARD
TZOFFSETFROM:+0200
TZOFFSETTO:+0100
TZNAME:CET
DTSTART:20241027T010000
END:STANDARD
BEGIN:DAYLIGHT
TZOFFSETFROM:+0100
TZOFFSETTO:+0200
TZNAME:CEST
DTSTART:20250330T010000
END:DAYLIGHT
BEGIN:STANDARD
TZOFFSETFROM:+0200
TZOFFSETTO:+0100
TZNAME:CET
DTSTART:20251026T010000
END:STANDARD
BEGIN:DAYLIGHT
TZOFFSETFROM:+0100
TZOFFSETTO:+0200
TZNAME:CEST
DTSTART:20260329T010000
END:DAYLIGHT
BEGIN:STANDARD
TZOFFSETFROM:+0200
TZOFFSETTO:+0100
TZNAME:CET
DTSTART:20261025T010000
END:STANDARD
END:VTIMEZONE
BEGIN:VEVENT
DTSTART;TZID=Europe/Warsaw:20251130T150000
DTEND;TZID=Europe/Warsaw:20251130T180000
DTSTAMP:20260420T042407
CREATED:20251104T211535Z
LAST-MODIFIED:20251126T121135Z
UID:208-1764514800-1764525600@horyzontalny.pl
SUMMARY:4. Speed Debating | Łódź
DESCRIPTION:Przyjdź\, porozmawiaj na ciekawe tematy 🧠\, poznaj nowe osoby 🤝 i poczuj atmosferę horyzontalnej dyskusji! \n📌 Na wydarzenie obowiązuje rejestracja. Udział jest bezpłatny. \nChcesz wesprzeć mnie w organizacji wydarzenia?  \nMożesz mi postawić kawę: https://buycoffee.to/horyzontalny.pl \n🔄 Jak wyglądają rundy?\n\nPo rejestracji zostajesz przypisanx do pierwszego stolika.\nNa każdym stoliku znajdziesz temat debaty i pytania pomocnicze\, które ułatwią formułowanie argumentów.\nKażda dyskusja trwa 10 minut ⏳.\nPo każdej rundzie zmieniasz stolik i poznajesz nowe osoby.\nPrzewidujemy 6 rund!\n\nDla kogo jest Speed Debating?\nSprawdź tutaj: https://www.horyzontalny.pl/post/dla-kogo-jest-speed-debating \nCo to znaczy horyzontalna dyskusja?\nTo rozmowa\, w której każdy głos ma szansę wybrzmieć 🎙️. Nie chodzi tylko o mówienie\, ale i o uważne słuchanie. Bez względu na to\, czy jesteś gadułą\, czy na co dzień trudno Ci się przebić – tu znajdziesz przestrzeń na swoją opinię! \nO czym będziemy rozmawiać?\nTematy pozostają niespodzianką! Może poruszymy filozoficzne dylematy\, może traficie na życiowe absurdy\, a może przy stoliku znajdzie się temat w stylu: czy płatki śniadaniowe zalewa się mlekiem\, czy odwrotnie? 🥣 \nNie ważne\, o czym będziecie debatować – to świetna okazja do ćwiczenia rozmowy\, argumentacji i poznania osób o podobnych lub zupełnie odmiennych perspektywach! \n📅 Kiedy? 30 listopada\, 15:00 \n📍 Gdzie? Niebostan\, Łódź \n✉ Masz pytania? Napisz: info@horyzontalny.pl \nRegulamin zapisów:\n💡 W związku z dużym zainteresowaniem\, przypominamy kilka zasad: \n\nKażda osoba zapisuje się samodzielnie – jedna osoba to jeden bilet.\nZapisując się\, zobowiązujesz się do przyjścia.\nJeśli nie możesz dotrzeć\, napisz maila do 12:00 w dniu wydarzenia.\nJeśli się zapiszesz\, ale nie przyjdziesz i nie odwołasz udziału\, tracisz możliwość zapisu na kolejną edycję.\nFormularz jest otwarty do dnia wydarzenia o 12:00 lub do momentu\, gdy lista rezerwowa osiągnie 20 osób.\nOsoby z listy rezerwowej poprzedniego wydarzenia mają pierwszeństwo w zapisach na kolejną edycję.\n\nFormularz zapisu:\n\nAby wypełnić ten formularz\, włącz obsługę JavaScript w przeglądarce.		\n			na Czy byłxś\n			\n		\n		Imię *Email *Czy byłxś już na Speed Debatingu?TakNiePrześlij  \n\n📧 Po zapisaniu się dostaniesz maila z potwierdzeniem w ciągu 24h – jeśli go nie widzisz\, sprawdź folder SPAM lub napisz do nas na: info@horyzontalny.pl\n  \nWesprzyj Horyzontalny Klub Dyskusyjny!\nPodobają Ci się wydarzenia\, które organizuję? Wesprzyj mnie symboliczną kwotą za kawę: \n🔗 https://buycoffee.to/horyzontalny.pl \nlub dołącz do Patronów Horyzontalnego Klubu Dyskusyjnego: \nhttps://patronite.pl/horyzontalny.pl \nNie możemy się doczekać – do zobaczenia przy stolikach! 🎤🔥
URL:https://horyzontalny.pl/event/4-speed-debating-lodz/
LOCATION:Niebostan\, Piotrkowska 17\, Łódź\, 90-406\, Poland
ATTACH;FMTTYPE=image/png:https://horyzontalny.pl/wp-content/uploads/2025/11/Lodz.png
ORGANIZER;CN="Horyzontalny Klub Dyskusyjny":MAILTO:info@horyzontalny.pl
END:VEVENT
END:VCALENDAR