BEGIN:VCALENDAR
VERSION:2.0
PRODID:-//Horyzontalny Klub Dyskusyjny - ECPv6.15.20//NONSGML v1.0//EN
CALSCALE:GREGORIAN
METHOD:PUBLISH
X-ORIGINAL-URL:https://horyzontalny.pl
X-WR-CALDESC:Wydarzenia dla Horyzontalny Klub Dyskusyjny
REFRESH-INTERVAL;VALUE=DURATION:PT1H
X-Robots-Tag:noindex
X-PUBLISHED-TTL:PT1H
BEGIN:VTIMEZONE
TZID:Europe/Warsaw
BEGIN:DAYLIGHT
TZOFFSETFROM:+0100
TZOFFSETTO:+0200
TZNAME:CEST
DTSTART:20250330T010000
END:DAYLIGHT
BEGIN:STANDARD
TZOFFSETFROM:+0200
TZOFFSETTO:+0100
TZNAME:CET
DTSTART:20251026T010000
END:STANDARD
BEGIN:DAYLIGHT
TZOFFSETFROM:+0100
TZOFFSETTO:+0200
TZNAME:CEST
DTSTART:20260329T010000
END:DAYLIGHT
BEGIN:STANDARD
TZOFFSETFROM:+0200
TZOFFSETTO:+0100
TZNAME:CET
DTSTART:20261025T010000
END:STANDARD
BEGIN:DAYLIGHT
TZOFFSETFROM:+0100
TZOFFSETTO:+0200
TZNAME:CEST
DTSTART:20270328T010000
END:DAYLIGHT
BEGIN:STANDARD
TZOFFSETFROM:+0200
TZOFFSETTO:+0100
TZNAME:CET
DTSTART:20271031T010000
END:STANDARD
END:VTIMEZONE
BEGIN:VEVENT
DTSTART;TZID=Europe/Warsaw:20260117T180000
DTEND;TZID=Europe/Warsaw:20260117T210000
DTSTAMP:20260420T011018
CREATED:20251118T141412Z
LAST-MODIFIED:20260117T123915Z
UID:325-1768672800-1768683600@horyzontalny.pl
SUMMARY:Czułe Pojedynki Dyskusyjne - premiera nowego formatu
DESCRIPTION:Czułe Pojedynki Dyskusyjne to autorski format Horyzontalnego Klubu Dyskusyjnego turnieju retorycznego nastawionego na edukację i samorozwój poprzez życzliwą i bezpieczną formę rywalizacji. Uczestnicy pracują z argumentacją\, jasnością wypowiedzi i umiejętnością przyjmowania różnych perspektyw. \nWydarzenie odbywa się stacjonarnie w Warszawie w CAK Gniazdo (Krucza 17). \nUdział jest bezpłatny zarówno dla uczestników aktywnych\, jak i widowni. Zapisy odbywają się na: horyzontalny.pl. \nFormuła Czułych Pojedynków Dyskusyjnych:\n\nlimit uczestników aktywnych: 10 osób\npule tematów publikujemy wcześniej; każdy uczestnik losuje swój temat na miejscu\nw części ogólnej każda osoba prowadzi wystąpienie w formule 5\,5 wystąpienia „Samx ze sobą” (prezentacja argumentów z różnych perspektyw danego tematu)\ndo finału przechodzą 2 osoby z największą liczbą głosów z części ogólnej\nfinaliści debatują na ten sam temat (kolejność wystąpień: najpierw 2. miejsce\, potem 1. miejsce)\nwidownia głosuje na zwycięzcę według z góry określonych kryteriów\n\nKryteria oceny: przejrzystość wypowiedzi\, spójność argumentacji i wyboru strony\, merytoryczność\, brak chwytów erystycznych\, język nieobraźliwy\, odwołania do faktów. Widownia będzie głosować na kartach wręczanych na wejściu wydarzenia. \nTematy 1 edycji:\n\nProtesty powinny być wyłącznie pokojowe.\n⁠Nie z każdym warto dyskutować.\nPowinniśmy robić wszystko dla zachowania naszych relacji.\nCelem każdego człowieka powinno być założenie rodziny.\nOpieka zdrowotna powinna być tylko publiczna.\nEdukacja zdrowotna powinna być fundamentem nauczania w szkole.\nDuchowość nadaje prawdziwe poczucie sensu życiu człowieka.\nLudzie nie powinni rozwijać cywilizacji kosztem zwierząt.\nKrwiodawstwo powinno być obowiązkowe.\nMarketing z wykorzystaniem sztucznej inteligencji powinien być zakazany.\n\nTemat finałowy: Najpierw ja\, potem ty. \nHarmonogram dnia wydarzenia:\n\n18:00–18:10 rejestracja\n18:10–18:25 element edukacyjny – mini-warsztat dla uczestników i publiczności prowadzony  przez Shin z Horyzontalnego Klubu Dyskusyjnego\n\nOrientacyjne godziny: \n\n18:25–18:30 losowanie tematów i kolejności\n18:30–19:40 wystąpienia ogólne „Samx ze sobą” (10 osób × 5\,5 min)\n19:40–19:55 przerwa + liczenie głosów\n19:55–20:10 finał – głosowanie jawne\nPo 20:10 – część nieformalna (dla chętnych)\n\nTerminy organizacyjne:\n\n10.01\, 10:00 – publikacja tematów\n14.01 – koniec zapisów do udziału czynnego i na listę rezerwową\n17.01\, 14:00 – koniec zapisów na widownię\n\n(limit widowni zostanie ogłoszony po potwierdzeniu miejsca) \nZapisy: zamknięte. Miejsca na widownię jeszcze są – zapraszamy!
URL:https://horyzontalny.pl/event/czule-pojedynki-dyskusyjne-premiera-nowego-formatu/
LOCATION:Centrum Aktywizmu Klimatycznego Gniazdo\, Krucza 17\, Warszawa\, Poland
ATTACH;FMTTYPE=image/png:https://horyzontalny.pl/wp-content/uploads/2025/11/Czule-Pojedynki-Dyskusyjne1.png
END:VEVENT
END:VCALENDAR