BEGIN:VCALENDAR
VERSION:2.0
PRODID:-//Horyzontalny Klub Dyskusyjny - ECPv6.15.20//NONSGML v1.0//EN
CALSCALE:GREGORIAN
METHOD:PUBLISH
X-WR-CALNAME:Horyzontalny Klub Dyskusyjny
X-ORIGINAL-URL:https://horyzontalny.pl
X-WR-CALDESC:Wydarzenia dla Horyzontalny Klub Dyskusyjny
REFRESH-INTERVAL;VALUE=DURATION:PT1H
X-Robots-Tag:noindex
X-PUBLISHED-TTL:PT1H
BEGIN:VTIMEZONE
TZID:Europe/Warsaw
BEGIN:DAYLIGHT
TZOFFSETFROM:+0100
TZOFFSETTO:+0200
TZNAME:CEST
DTSTART:20250330T010000
END:DAYLIGHT
BEGIN:STANDARD
TZOFFSETFROM:+0200
TZOFFSETTO:+0100
TZNAME:CET
DTSTART:20251026T010000
END:STANDARD
BEGIN:DAYLIGHT
TZOFFSETFROM:+0100
TZOFFSETTO:+0200
TZNAME:CEST
DTSTART:20260329T010000
END:DAYLIGHT
BEGIN:STANDARD
TZOFFSETFROM:+0200
TZOFFSETTO:+0100
TZNAME:CET
DTSTART:20261025T010000
END:STANDARD
BEGIN:DAYLIGHT
TZOFFSETFROM:+0100
TZOFFSETTO:+0200
TZNAME:CEST
DTSTART:20270328T010000
END:DAYLIGHT
BEGIN:STANDARD
TZOFFSETFROM:+0200
TZOFFSETTO:+0100
TZNAME:CET
DTSTART:20271031T010000
END:STANDARD
END:VTIMEZONE
BEGIN:VEVENT
DTSTART;TZID=Europe/Warsaw:20260418T180000
DTEND;TZID=Europe/Warsaw:20260418T203000
DTSTAMP:20260419T193419
CREATED:20260130T115413Z
LAST-MODIFIED:20260415T135953Z
UID:503-1776535200-1776544200@horyzontalny.pl
SUMMARY:Czułe Pojedynki Dyskusyjne (2)
DESCRIPTION:Czułe Pojedynki Dyskusyjne to autorski format Horyzontalnego Klubu Dyskusyjnego turnieju retorycznego nastawionego na edukację i samorozwój poprzez życzliwą i bezpieczną formę rywalizacji. Uczestnicy pracują z argumentacją\, jasnością wypowiedzi i umiejętnością przyjmowania różnych perspektyw. \nWydarzenie odbędzie się w Warszawie\, w Domu Kultury Kadr. \nUdział jest bezpłatny zarówno dla uczestników aktywnych\, jak i widowni. Zapisy odbywają się na: horyzontalny.pl. \nFormuła Czułych Pojedynków Dyskusyjnych:\n\nlimit uczestników aktywnych: 10 osób\npule tematów publikujemy wcześniej; każdy uczestnik losuje swój temat na miejscu\nw części ogólnej każda osoba prowadzi wystąpienie w formule 5\,5 wystąpienia „Samx ze sobą” (prezentacja argumentów z różnych perspektyw danego tematu)\ndo finału przechodzą 2 osoby z największą liczbą głosów z części ogólnej\nfinaliści debatują na ten sam temat (kolejność wystąpień: najpierw 2. miejsce\, potem 1. miejsce)\nwidownia głosuje na zwycięzcę według z góry określonych kryteriów\n\nKryteria oceny: przejrzystość wypowiedzi\, spójność argumentacji i wyboru strony\, merytoryczność\, brak chwytów erystycznych\, język nieobraźliwy\, odwołania do faktów. Widownia będzie głosować na kartach wręczanych na wejściu wydarzenia. \nTematy :\n\nZostaną opublikowane tydzień przed wydarzeniem. \nHarmonogram dnia wydarzenia:\n\n18:00–18:10 rejestracja\n18:10–18:25 element edukacyjny – mini-warsztat dla uczestników i publiczności prowadzony przez Shin z Horyzontalnego Klubu Dyskusyjnego\n\nOrientacyjne godziny: \n\n18:25–18:30 losowanie tematów i kolejności\n18:30–19:40 wystąpienia ogólne „Samx ze sobą” (10 osób × 5\,5 min)\n19:40–19:55 przerwa + liczenie głosów\n19:55–20:10 finał – głosowanie jawne\nPo 20:10 – część nieformalna (dla chętnych)\n\nTematy 2. edycji:\n\nŻyjemy w najlepszych możliwych czasach.\nCzłowiek słusznie jest panującym na ziemi gatunkiem.\nPrzywilej zobowiązuje.\nNie ma złych żartów.\nWolność jest najwyższą wartością.\nSpędzamy za mało czasu z innymi ludźmi.\nArtyści powinni być wspierani finansowo przez państwo.\nAutorytety są ważne w życiu człowieka.\nPowinniśmy przestać produkować nowe ubrania.\nJednostka nie ma szans zmienić niczego w świecie.\n\nTemat finałowy: Wszyscy przegraliśmy. \nTerminy organizacyjne:\n\n11.04\, 10:00 – publikacja tematów\n17.04 – koniec zapisów do udziału czynnego i na listę rezerwową\n18.04\, 14:00 – koniec zapisów na widownię\n\nAby wypełnić ten formularz\, włącz obsługę JavaScript w przeglądarce.Imię *Email *		\n			Imię Interesuje Email\n			\n		\n		Interesuje mnieCzynny udziałZapis na widownięPrześlij
URL:https://horyzontalny.pl/event/czule-pojedynki-dyskusyjne-2/
LOCATION:Dom Kultury Kadr\, Wincentego Rzymowskiego 32\, Warszawa\, 02-697\, Poland
ORGANIZER;CN="Horyzontalny Klub Dyskusyjny":MAILTO:info@horyzontalny.pl
END:VEVENT
END:VCALENDAR