BEGIN:VCALENDAR
VERSION:2.0
PRODID:-//Horyzontalny Klub Dyskusyjny - ECPv6.15.20//NONSGML v1.0//EN
CALSCALE:GREGORIAN
METHOD:PUBLISH
X-WR-CALNAME:Horyzontalny Klub Dyskusyjny
X-ORIGINAL-URL:https://horyzontalny.pl
X-WR-CALDESC:Wydarzenia dla Horyzontalny Klub Dyskusyjny
REFRESH-INTERVAL;VALUE=DURATION:PT1H
X-Robots-Tag:noindex
X-PUBLISHED-TTL:PT1H
BEGIN:VTIMEZONE
TZID:Europe/Warsaw
BEGIN:DAYLIGHT
TZOFFSETFROM:+0100
TZOFFSETTO:+0200
TZNAME:CEST
DTSTART:20250330T010000
END:DAYLIGHT
BEGIN:STANDARD
TZOFFSETFROM:+0200
TZOFFSETTO:+0100
TZNAME:CET
DTSTART:20251026T010000
END:STANDARD
BEGIN:DAYLIGHT
TZOFFSETFROM:+0100
TZOFFSETTO:+0200
TZNAME:CEST
DTSTART:20260329T010000
END:DAYLIGHT
BEGIN:STANDARD
TZOFFSETFROM:+0200
TZOFFSETTO:+0100
TZNAME:CET
DTSTART:20261025T010000
END:STANDARD
BEGIN:DAYLIGHT
TZOFFSETFROM:+0100
TZOFFSETTO:+0200
TZNAME:CEST
DTSTART:20270328T010000
END:DAYLIGHT
BEGIN:STANDARD
TZOFFSETFROM:+0200
TZOFFSETTO:+0100
TZNAME:CET
DTSTART:20271031T010000
END:STANDARD
END:VTIMEZONE
BEGIN:VEVENT
DTSTART;TZID=Europe/Warsaw:20260509T180000
DTEND;TZID=Europe/Warsaw:20260509T210000
DTSTAMP:20260419T212131
CREATED:20260130T115040Z
LAST-MODIFIED:20260130T115052Z
UID:500-1778349600-1778360400@horyzontalny.pl
SUMMARY:29. Speed Debating #Warszawa
DESCRIPTION:Przyjdź\, porozmawiaj na ciekawe tematy 🧠\, poznaj nowe osoby 🤝 i poczuj atmosferę horyzontalnej dyskusji! \n📌 Na wydarzenie obowiązuje rejestracja. Udział jest bezpłatny. \nChcesz wesprzeć mnie w organizacji wydarzenia? \nMożesz mi postawić kawę: https://buycoffee.to/horyzontalny.pl \nZapisy ruszą 4 maja o 12:00 i będą na tej stronie. \nZapisy zamknięte.\n🔄 Jak wyglądają rundy?\n\nPo rejestracji zostajesz przypisanx do pierwszego stolika.\nNa każdym stoliku znajdziesz temat debaty i pytania pomocnicze\, które ułatwią formułowanie argumentów.\nKażda dyskusja trwa 10 minut ⏳.\nPo każdej rundzie zmieniasz stolik i poznajesz nowe osoby.\nPrzewidujemy 6 rund!\n\n📢 Dla kogo jest Speed Debating?\nSprawdź tutaj: https://www.horyzontalny.pl/post/dla-kogo-jest-speed-debating \n💡 Co to znaczy horyzontalna dyskusja?\nTo rozmowa\, w której każdy głos ma szansę wybrzmieć 🎙️. Nie chodzi tylko o mówienie\, ale i o uważne słuchanie. Bez względu na to\, czy jesteś gadułą\, czy na co dzień trudno Ci się przebić – tu znajdziesz przestrzeń na swoją opinię! \n🎭 O czym będziemy rozmawiać?\nTematy pozostają niespodzianką! Może poruszymy filozoficzne dylematy\, może traficie na życiowe absurdy\, a może przy stoliku znajdzie się temat w stylu: czy płatki śniadaniowe zalewa się mlekiem\, czy odwrotnie? 🥣 \nNie ważne\, o czym będziecie debatować – to świetna okazja do ćwiczenia rozmowy\, argumentacji i poznania osób o podobnych lub zupełnie odmiennych perspektywach! \n✉ Masz pytania? Napisz: info@horyzontalny.pl \n⚠ Regulamin zapisów:\n💡 W związku z dużym zainteresowaniem\, przypominamy kilka zasad: \n\nZapisując się\, zobowiązujesz się do przyjścia. W ciągu max. 24h otrzymasz informację z potwierdzeniem zapisu.\nJeden zapis = jedna osoba.\nJeśli nie możesz dotrzeć\, napisz maila do 10:00 w dniu wydarzenia.\nJeśli się zapiszesz\, ale nie przyjdziesz i nie odwołasz udziału w wyznaczonym czasie\, tracisz możliwość zapisu na kolejną edycję.\nFormularz jest otwarty do dnia wydarzenia do 10:00 lub do momentu\, gdy lista rezerwowa osiągnie 20 osób.\nOsoby z listy rezerwowej poprzedniego wydarzenia mają pierwszeństwo w zapisach na kolejną edycję.\n\n💛 Wesprzyj Horyzontalny Klub Dyskusyjny! \nPodobają Ci się wydarzenia\, które organizuję? Wesprzyj mnie symboliczną kwotą za kawę: \n🔗 https://buycoffee.to/horyzontalny.pl \nlub dołącz do Patronów Horyzontalnego Klubu Dyskusyjnego: \nhttps://patronite.pl/horyzontalny.pl \nNie możemy się doczekać – do zobaczenia przy stolikach! 🎤🔥
URL:https://horyzontalny.pl/event/29-speed-debating/
LOCATION:Południk 2.0\, Wilcza 25\, Warszawa\, 00-544\, Poland
ATTACH;FMTTYPE=image/png:https://horyzontalny.pl/wp-content/uploads/2025/10/Events-20254.png
ORGANIZER;CN="Horyzontalny Klub Dyskusyjny":MAILTO:info@horyzontalny.pl
END:VEVENT
BEGIN:VEVENT
DTSTART;TZID=Europe/Warsaw:20260720T160000
DTEND;TZID=Europe/Warsaw:20260725T120000
DTSTAMP:20260419T212131
CREATED:20260201T112455Z
LAST-MODIFIED:20260401T123954Z
UID:513-1784563200-1784980800@horyzontalny.pl
SUMMARY:6. Horyzontalny Obóz Dyskusyjny 2026
DESCRIPTION:Po raz 6 w lipcu wybieramy się na Horyzontalny Obóz Dyskusyjny! \nObóz to wyjątkowa okazja\, by poszerzyć horyzonty\, podyskutować o ważnych i inspirujących tematach oraz odpocząć w kameralnej atmosferze\, z dala od zgiełku i szumu informacyjnego. Spotkania odbywają się bez nadęcia\, w atmosferze szacunku i otwartości – bez względu na Twój poziom doświadczenia. \nCzego się spodziewać?\n\nDebaty strukturyzowane\, indywidualne i swobodne – ćwiczenie różnych stylów argumentacji\nAnaliza argumentacji własnej i cudzej – budowanie spójnych wypowiedzi i rozpoznawanie błędów\nRefleksje nad komunikacją – jak wpływa ona na polaryzację i integrację społeczną\nRozmowy na tematy aktualne i abstrakcyjne – intelektualne wyzwania\, które rozwijają\nCiepła\, akceptująca atmosfera i czas na relaks\n\nObóz – plan warsztatów. (pobierz PDF) \nJak wygląda dzień na obozie?\nKażdy dzień to połączenie intensywnych warsztatów i czasu na regenerację w otoczeniu natury.\n🏡 Rano – po śniadaniu 2\,5-godzinne warsztaty\n☀️ Południe – czas wolny i lunch\n🎤 Popołudnie – kolejne warsztaty lub debaty\n🌙 Wieczór – integracja\, luźne rozmowy\, warsztaty dla chętnych\, seanse filmowe \nOstatniego dnia wspólnie podsumujemy nasze doświadczenia i refleksje. W sumie przewidziane jest 18 godzin warsztatów i debat. \nDaty i miejsce\nWidzimy się 20 – 25 lipca 2026! \nW tym roku ugości nas Krajno Pierwsze – jedynie 180 km od Warszawy\, blisko Kielc. \nOrganizacja\n\nPokoje 2 i 3 osobowe z łazienkami\nWyżywienie wegańskie (śniadania\, drugie śniadania i obiady)\nBlisko Gór Świętokrzyskich\, 10 minut autem od kąpieliska\nDojazd: we własnym zakresie – przed obozem otwieram nitkę na umówienie się na wspólny dojazd 🙂\n\nKoszt\nPrzykładowy rozkład rat: \n\nZadatek 300 – 28.03\nRata I 300 – 30.03\nRata II 300 – 30.04\nRata III 350 – 30.05\nRata IV 400 – 30.06\n\nZapisy\nAby wypełnić ten formularz\, włącz obsługę JavaScript w przeglądarce.Imię i nazwisko *Adres e-mail *		\n			obozu mieć nazwisko\n			\n		\n		Potwierdzam\, że w trakcie trwania obozu będę mieć ukończone 18 lat. *TakPrześlij  \n 
URL:https://horyzontalny.pl/event/6-horyzontalny-oboz-dyskusyjny-2026/
LOCATION:Krajno Pierwsze\, Poland
ATTACH;FMTTYPE=image/png:https://horyzontalny.pl/wp-content/uploads/2026/02/6-Oboz-scaled.png
ORGANIZER;CN="Horyzontalny Klub Dyskusyjny":MAILTO:info@horyzontalny.pl
END:VEVENT
END:VCALENDAR