BEGIN:VCALENDAR
VERSION:2.0
PRODID:-//Horyzontalny Klub Dyskusyjny - ECPv6.15.20//NONSGML v1.0//EN
CALSCALE:GREGORIAN
METHOD:PUBLISH
X-ORIGINAL-URL:https://horyzontalny.pl
X-WR-CALDESC:Wydarzenia dla Horyzontalny Klub Dyskusyjny
REFRESH-INTERVAL;VALUE=DURATION:PT1H
X-Robots-Tag:noindex
X-PUBLISHED-TTL:PT1H
BEGIN:VTIMEZONE
TZID:Europe/Warsaw
BEGIN:DAYLIGHT
TZOFFSETFROM:+0100
TZOFFSETTO:+0200
TZNAME:CEST
DTSTART:20240331T010000
END:DAYLIGHT
BEGIN:STANDARD
TZOFFSETFROM:+0200
TZOFFSETTO:+0100
TZNAME:CET
DTSTART:20241027T010000
END:STANDARD
BEGIN:DAYLIGHT
TZOFFSETFROM:+0100
TZOFFSETTO:+0200
TZNAME:CEST
DTSTART:20250330T010000
END:DAYLIGHT
BEGIN:STANDARD
TZOFFSETFROM:+0200
TZOFFSETTO:+0100
TZNAME:CET
DTSTART:20251026T010000
END:STANDARD
BEGIN:DAYLIGHT
TZOFFSETFROM:+0100
TZOFFSETTO:+0200
TZNAME:CEST
DTSTART:20260329T010000
END:DAYLIGHT
BEGIN:STANDARD
TZOFFSETFROM:+0200
TZOFFSETTO:+0100
TZNAME:CET
DTSTART:20261025T010000
END:STANDARD
BEGIN:DAYLIGHT
TZOFFSETFROM:+0100
TZOFFSETTO:+0200
TZNAME:CEST
DTSTART:20270328T010000
END:DAYLIGHT
BEGIN:STANDARD
TZOFFSETFROM:+0200
TZOFFSETTO:+0100
TZNAME:CET
DTSTART:20271031T010000
END:STANDARD
END:VTIMEZONE
BEGIN:VEVENT
DTSTART;TZID=Europe/Warsaw:20260411T190000
DTEND;TZID=Europe/Warsaw:20260411T210000
DTSTAMP:20260419T174353
CREATED:20260130T114844Z
LAST-MODIFIED:20260411T064525Z
UID:498-1775934000-1775941200@horyzontalny.pl
SUMMARY:28. Speed Debating #Warszawa
DESCRIPTION:Przyjdź\, porozmawiaj na ciekawe tematy 🧠\, poznaj nowe osoby 🤝 i poczuj atmosferę horyzontalnej dyskusji! \n📌 Na wydarzenie obowiązuje rejestracja. Udział jest bezpłatny. \nChcesz wesprzeć mnie w organizacji wydarzenia? \nMożesz mi postawić kawę: https://buycoffee.to/horyzontalny.pl \nZapisy zamknięte.\n🔄 Jak wyglądają rundy?\n\nPo rejestracji zostajesz przypisanx do pierwszego stolika.\nNa każdym stoliku znajdziesz temat debaty i pytania pomocnicze\, które ułatwią formułowanie argumentów.\nKażda dyskusja trwa 10 minut ⏳.\nPo każdej rundzie zmieniasz stolik i poznajesz nowe osoby.\nPrzewidujemy 6 rund!\n\n📢 Dla kogo jest Speed Debating?\nSprawdź tutaj: https://www.horyzontalny.pl/post/dla-kogo-jest-speed-debating \n💡 Co to znaczy horyzontalna dyskusja?\nTo rozmowa\, w której każdy głos ma szansę wybrzmieć 🎙️. Nie chodzi tylko o mówienie\, ale i o uważne słuchanie. Bez względu na to\, czy jesteś gadułą\, czy na co dzień trudno Ci się przebić – tu znajdziesz przestrzeń na swoją opinię! \n🎭 O czym będziemy rozmawiać?\nTematy pozostają niespodzianką! Może poruszymy filozoficzne dylematy\, może traficie na życiowe absurdy\, a może przy stoliku znajdzie się temat w stylu: czy płatki śniadaniowe zalewa się mlekiem\, czy odwrotnie? 🥣 \nNie ważne\, o czym będziecie debatować – to świetna okazja do ćwiczenia rozmowy\, argumentacji i poznania osób o podobnych lub zupełnie odmiennych perspektywach! \n✉ Masz pytania? Napisz: info@horyzontalny.pl \n⚠ Regulamin zapisów:\n💡 W związku z dużym zainteresowaniem\, przypominamy kilka zasad: \n\nZapisując się\, zobowiązujesz się do przyjścia. W ciągu max. 24h otrzymasz informację z potwierdzeniem zapisu.\nJeden zapis = jedna osoba.\nJeśli nie możesz dotrzeć\, napisz maila do 10:00 w dniu wydarzenia.\nJeśli się zapiszesz\, ale nie przyjdziesz i nie odwołasz udziału w wyznaczonym czasie\, tracisz możliwość zapisu na kolejną edycję.\nFormularz jest otwarty do dnia wydarzenia do 10:00 lub do momentu\, gdy lista rezerwowa osiągnie 20 osób.\nOsoby z listy rezerwowej poprzedniego wydarzenia mają pierwszeństwo w zapisach na kolejną edycję.\n\n💛 Wesprzyj Horyzontalny Klub Dyskusyjny! \nPodobają Ci się wydarzenia\, które organizuję? Wesprzyj mnie symboliczną kwotą za kawę: \n🔗 https://buycoffee.to/horyzontalny.pl \nlub dołącz do Patronów Horyzontalnego Klubu Dyskusyjnego: \nhttps://patronite.pl/horyzontalny.pl \nNie możemy się doczekać – do zobaczenia przy stolikach! 🎤🔥
URL:https://horyzontalny.pl/event/28-speed-debating-warszawa/
LOCATION:Południk 2.0\, Wilcza 25\, Warszawa\, 00-544\, Poland
ATTACH;FMTTYPE=image/png:https://horyzontalny.pl/wp-content/uploads/2025/10/Events-20254.png
END:VEVENT
BEGIN:VEVENT
DTSTART;TZID=Europe/Warsaw:20260214T170000
DTEND;TZID=Europe/Warsaw:20260214T193000
DTSTAMP:20260419T174353
CREATED:20260113T213738Z
LAST-MODIFIED:20260212T110733Z
UID:469-1771088400-1771097400@horyzontalny.pl
SUMMARY:Walentynkowy Speed D(eb)ating Południk 2.0
DESCRIPTION:Chcesz poznać kogoś\, ale szybkie randki czy aplikacje nie są dla Ciebie? \nSpotkajcie się\, żeby pogadać na ciekawe tematy i zobaczcie\, z kim poszlibyście_łybyście na randkę! \n📌 Na wydarzenie obowiązuje rejestracja. Udział jest bezpłatny. \nChcesz wesprzeć mnie w organizacji wydarzenia? \nMożesz mi postawić kawę: https://buycoffee.to/horyzontalny.pl \nZapisy ruszą 9 lutego o 12:00 i będą na tej stronie. \nUwaga! Jeśli masz 40+\, możesz zapisać się na walentynkowy Speed Debating dedykowany dla osób po 40-tce tutaj.\nZapisy do Południka 2.0 – zamknięte. Osiągnięto limit zapisów. \n🔄 Jak wyglądają rundy?\n\nPo rejestracji zostajesz przypisanx do pierwszego stolika.\nNa każdym stoliku znajdziesz temat debaty i pytania pomocnicze\, które ułatwią formułowanie argumentów.\nKażda dyskusja trwa 10 minut ⏳.\nPo każdej rundzie zmieniasz stolik i poznajesz nowe osoby.\nPrzewidujemy 6 rund!\n\nZasady Walentynkowe:\n\nRejestrując się zaznaczasz\, czy bierzesz udział w części walentynkowej.\nOznacza to wyłącznie tyle\, że jesteś otwartx na randkę  z osobą\, która również wyrazi taką chęć. 🙂\nOd poniedziałku o 12:00 do czwartku o 12:00 pierwszeństwo zapisu mają osoby biorące udział w części walentynkowej.\nNa wydarzeniu osoby zapisane na część walentynkową otrzymają specjalny identyfikator oraz kartkę do notowania osób do połączenia Was.\nNa końcu eventu otrzymasz kopertę z namiarami na osoby\, które wyraziły chęć spotkania się z tobą.\n\nI tyle! Nadal rozmawiamy w grupie\, nadal tematy będą różne – nie tylko o miłości. 🙂 \n📢 Dla kogo jest Speed Debating?\nSprawdź tutaj: https://www.horyzontalny.pl/post/dla-kogo-jest-speed-debating \n💡 Co to znaczy horyzontalna dyskusja?\nTo rozmowa\, w której każdy głos ma szansę wybrzmieć 🎙️. Nie chodzi tylko o mówienie\, ale i o uważne słuchanie. Bez względu na to\, czy jesteś gadułą\, czy na co dzień trudno Ci się przebić – tu znajdziesz przestrzeń na swoją opinię! \n🎭 O czym będziemy rozmawiać?\nTematy pozostają niespodzianką! Może poruszymy filozoficzne dylematy\, może traficie na życiowe absurdy\, a może przy stoliku znajdzie się temat w stylu: czy płatki śniadaniowe zalewa się mlekiem\, czy odwrotnie? 🥣 \nNie ważne\, o czym będziecie debatować – to świetna okazja do ćwiczenia rozmowy\, argumentacji i poznania osób o podobnych lub zupełnie odmiennych perspektywach! \n✉ Masz pytania? Napisz: info@horyzontalny.pl \n⚠ Regulamin zapisów:\n💡 W związku z dużym zainteresowaniem\, przypominamy kilka zasad: \n\nZapisując się\, zobowiązujesz się do przyjścia. W ciągu max. 24h otrzymasz informację z potwierdzeniem zapisu.\nJeden zapis = jedna osoba.\nJeśli nie możesz dotrzeć\, napisz maila do 10:00 w dniu wydarzenia.\nJeśli się zapiszesz\, ale nie przyjdziesz i nie odwołasz udziału w wyznaczonym czasie\, tracisz możliwość zapisu na kolejną edycję.\nFormularz jest otwarty do dnia wydarzenia do 10:00 lub do momentu\, gdy lista rezerwowa osiągnie 20 osób.\nOsoby z listy rezerwowej poprzedniego wydarzenia mają pierwszeństwo w zapisach na kolejną edycję.\n\n💛 Wesprzyj Horyzontalny Klub Dyskusyjny! \nPodobają Ci się wydarzenia\, które organizuję? Wesprzyj mnie symboliczną kwotą za kawę: \n🔗 https://buycoffee.to/horyzontalny.pl \nlub dołącz do Patronów Horyzontalnego Klubu Dyskusyjnego: \nhttps://patronite.pl/horyzontalny.pl \nNie możemy się doczekać – do zobaczenia przy stolikach! 🎤🔥
URL:https://horyzontalny.pl/event/walentynkowy-speed-debating-warszawa/
LOCATION:Południk 2.0\, Wilcza 25\, Warszawa\, 00-544\, Poland
ATTACH;FMTTYPE=image/png:https://horyzontalny.pl/wp-content/uploads/2026/01/WWa.png
ORGANIZER;CN="Horyzontalny Klub Dyskusyjny":MAILTO:info@horyzontalny.pl
END:VEVENT
BEGIN:VEVENT
DTSTART;TZID=Europe/Warsaw:20260124T160000
DTEND;TZID=Europe/Warsaw:20260124T183000
DTSTAMP:20260419T174353
CREATED:20260111T191236Z
LAST-MODIFIED:20260123T082607Z
UID:462-1769270400-1769279400@horyzontalny.pl
SUMMARY:27. Speed Debating #Warszawa
DESCRIPTION:Przyjdź\, porozmawiaj na ciekawe tematy 🧠\, poznaj nowe osoby 🤝 i poczuj atmosferę horyzontalnej dyskusji! \n📌 Na wydarzenie obowiązuje rejestracja. Udział jest bezpłatny. \nUWAGA! Wydarzenie odbywa się O SZESNASTEJ. \nChcesz wesprzeć mnie w organizacji wydarzenia? \nMożesz mi postawić kawę: https://buycoffee.to/horyzontalny.pl \nZapisy ruszą 19 stycznia o 12:00 i będą na tej stronie. \nZapisy zamknięte.\n🔄 Jak wyglądają rundy?\n\nPo rejestracji zostajesz przypisanx do pierwszego stolika.\nNa każdym stoliku znajdziesz temat debaty i pytania pomocnicze\, które ułatwią formułowanie argumentów.\nKażda dyskusja trwa 10 minut ⏳.\nPo każdej rundzie zmieniasz stolik i poznajesz nowe osoby.\nPrzewidujemy 6 rund!\n\n📢 Dla kogo jest Speed Debating?\nSprawdź tutaj: https://www.horyzontalny.pl/post/dla-kogo-jest-speed-debating \n💡 Co to znaczy horyzontalna dyskusja?\nTo rozmowa\, w której każdy głos ma szansę wybrzmieć 🎙️. Nie chodzi tylko o mówienie\, ale i o uważne słuchanie. Bez względu na to\, czy jesteś gadułą\, czy na co dzień trudno Ci się przebić – tu znajdziesz przestrzeń na swoją opinię! \n🎭 O czym będziemy rozmawiać?\nTematy pozostają niespodzianką! Może poruszymy filozoficzne dylematy\, może traficie na życiowe absurdy\, a może przy stoliku znajdzie się temat w stylu: czy płatki śniadaniowe zalewa się mlekiem\, czy odwrotnie? 🥣 \nNie ważne\, o czym będziecie debatować – to świetna okazja do ćwiczenia rozmowy\, argumentacji i poznania osób o podobnych lub zupełnie odmiennych perspektywach! \n✉ Masz pytania? Napisz: info@horyzontalny.pl \n⚠ Regulamin zapisów:\n💡 W związku z dużym zainteresowaniem\, przypominamy kilka zasad: \n\nZapisując się\, zobowiązujesz się do przyjścia. W ciągu max. 24h otrzymasz informację z potwierdzeniem zapisu.\nJeden zapis = jedna osoba.\nJeśli nie możesz dotrzeć\, napisz maila do 10:00 w dniu wydarzenia.\nJeśli się zapiszesz\, ale nie przyjdziesz i nie odwołasz udziału w wyznaczonym czasie\, tracisz możliwość zapisu na kolejną edycję.\nFormularz jest otwarty do dnia wydarzenia do 10:00 lub do momentu\, gdy lista rezerwowa osiągnie 20 osób.\nOsoby z listy rezerwowej poprzedniego wydarzenia mają pierwszeństwo w zapisach na kolejną edycję.\n\n💛 Wesprzyj Horyzontalny Klub Dyskusyjny! \nPodobają Ci się wydarzenia\, które organizuję? Wesprzyj mnie symboliczną kwotą za kawę: \n🔗 https://buycoffee.to/horyzontalny.pl \nlub dołącz do Patronów Horyzontalnego Klubu Dyskusyjnego: \nhttps://patronite.pl/horyzontalny.pl \nNie możemy się doczekać – do zobaczenia przy stolikach! 🎤🔥
URL:https://horyzontalny.pl/event/27-speed-debating-warszawa/
LOCATION:Południk 2.0\, Wilcza 25\, Warszawa\, 00-544\, Poland
ATTACH;FMTTYPE=image/png:https://horyzontalny.pl/wp-content/uploads/2025/10/Events-20254.png
ORGANIZER;CN="Horyzontalny Klub Dyskusyjny":MAILTO:info@horyzontalny.pl
END:VEVENT
BEGIN:VEVENT
DTSTART;TZID=Europe/Warsaw:20251220T190000
DTEND;TZID=Europe/Warsaw:20251220T223000
DTSTAMP:20260419T174353
CREATED:20251205T095051Z
LAST-MODIFIED:20251220T084334Z
UID:379-1766257200-1766269800@horyzontalny.pl
SUMMARY:26. Speed Debating #Warszawa
DESCRIPTION:Przyjdź\, porozmawiaj na ciekawe tematy 🧠\, poznaj nowe osoby 🤝 i poczuj atmosferę horyzontalnej dyskusji! \n📌 Na wydarzenie obowiązuje rejestracja. Udział jest bezpłatny. \nChcesz wesprzeć mnie w organizacji wydarzenia? \nMożesz mi postawić kawę: https://buycoffee.to/horyzontalny.pl \nZapisy ruszą 15 grudnia o 12:00 i będą na tej stronie. \n🔄 Jak wyglądają rundy?\n\nPo rejestracji zostajesz przypisanx do pierwszego stolika.\nNa każdym stoliku znajdziesz temat debaty i pytania pomocnicze\, które ułatwią formułowanie argumentów.\nKażda dyskusja trwa 10 minut ⏳.\nPo każdej rundzie zmieniasz stolik i poznajesz nowe osoby.\nPrzewidujemy 6 rund!\n\n📢 Dla kogo jest Speed Debating?\nSprawdź tutaj: https://www.horyzontalny.pl/post/dla-kogo-jest-speed-debating \n💡 Co to znaczy horyzontalna dyskusja?\nTo rozmowa\, w której każdy głos ma szansę wybrzmieć 🎙️. Nie chodzi tylko o mówienie\, ale i o uważne słuchanie. Bez względu na to\, czy jesteś gadułą\, czy na co dzień trudno Ci się przebić – tu znajdziesz przestrzeń na swoją opinię! \n🎭 O czym będziemy rozmawiać?\nTematy pozostają niespodzianką! Może poruszymy filozoficzne dylematy\, może traficie na życiowe absurdy\, a może przy stoliku znajdzie się temat w stylu: czy płatki śniadaniowe zalewa się mlekiem\, czy odwrotnie? 🥣 \nNie ważne\, o czym będziecie debatować – to świetna okazja do ćwiczenia rozmowy\, argumentacji i poznania osób o podobnych lub zupełnie odmiennych perspektywach! \n✉ Masz pytania? Napisz: info@horyzontalny.pl \n⚠ Regulamin zapisów:\n💡 W związku z dużym zainteresowaniem\, przypominamy kilka zasad: \n\nZapisując się\, zobowiązujesz się do przyjścia. W ciągu max. 24h otrzymasz informację z potwierdzeniem zapisu.\nJeden zapis = jedna osoba.\nJeśli nie możesz dotrzeć\, napisz maila do 12:00 w dniu wydarzenia.\nJeśli się zapiszesz\, ale nie przyjdziesz i nie odwołasz udziału w wyznaczonym czasie\, tracisz możliwość zapisu na kolejną edycję.\nFormularz jest otwarty do dnia wydarzenia do 12:00 lub do momentu\, gdy lista rezerwowa osiągnie 20 osób.\nOsoby z listy rezerwowej poprzedniego wydarzenia mają pierwszeństwo w zapisach na kolejną edycję.\n\nFormularz zapisów:\nZapisy zamknięte. Osiągnięto maksymalną liczbę osób na liście rezerwowej. \n  \n💛 Wesprzyj Horyzontalny Klub Dyskusyjny! \nPodobają Ci się wydarzenia\, które organizuję? Wesprzyj mnie symboliczną kwotą za kawę: \n🔗 https://buycoffee.to/horyzontalny.pl \nlub dołącz do Patronów Horyzontalnego Klubu Dyskusyjnego: \nhttps://patronite.pl/horyzontalny.pl \nNie możemy się doczekać – do zobaczenia przy stolikach! 🎤🔥
URL:https://horyzontalny.pl/event/26-speed-debating-warszawa/
ATTACH;FMTTYPE=image/png:https://horyzontalny.pl/wp-content/uploads/2025/10/Events-20254.png
END:VEVENT
BEGIN:VEVENT
DTSTART;TZID=Europe/Warsaw:20251130T150000
DTEND;TZID=Europe/Warsaw:20251130T180000
DTSTAMP:20260419T174353
CREATED:20251104T211535Z
LAST-MODIFIED:20251126T121135Z
UID:208-1764514800-1764525600@horyzontalny.pl
SUMMARY:4. Speed Debating | Łódź
DESCRIPTION:Przyjdź\, porozmawiaj na ciekawe tematy 🧠\, poznaj nowe osoby 🤝 i poczuj atmosferę horyzontalnej dyskusji! \n📌 Na wydarzenie obowiązuje rejestracja. Udział jest bezpłatny. \nChcesz wesprzeć mnie w organizacji wydarzenia?  \nMożesz mi postawić kawę: https://buycoffee.to/horyzontalny.pl \n🔄 Jak wyglądają rundy?\n\nPo rejestracji zostajesz przypisanx do pierwszego stolika.\nNa każdym stoliku znajdziesz temat debaty i pytania pomocnicze\, które ułatwią formułowanie argumentów.\nKażda dyskusja trwa 10 minut ⏳.\nPo każdej rundzie zmieniasz stolik i poznajesz nowe osoby.\nPrzewidujemy 6 rund!\n\nDla kogo jest Speed Debating?\nSprawdź tutaj: https://www.horyzontalny.pl/post/dla-kogo-jest-speed-debating \nCo to znaczy horyzontalna dyskusja?\nTo rozmowa\, w której każdy głos ma szansę wybrzmieć 🎙️. Nie chodzi tylko o mówienie\, ale i o uważne słuchanie. Bez względu na to\, czy jesteś gadułą\, czy na co dzień trudno Ci się przebić – tu znajdziesz przestrzeń na swoją opinię! \nO czym będziemy rozmawiać?\nTematy pozostają niespodzianką! Może poruszymy filozoficzne dylematy\, może traficie na życiowe absurdy\, a może przy stoliku znajdzie się temat w stylu: czy płatki śniadaniowe zalewa się mlekiem\, czy odwrotnie? 🥣 \nNie ważne\, o czym będziecie debatować – to świetna okazja do ćwiczenia rozmowy\, argumentacji i poznania osób o podobnych lub zupełnie odmiennych perspektywach! \n📅 Kiedy? 30 listopada\, 15:00 \n📍 Gdzie? Niebostan\, Łódź \n✉ Masz pytania? Napisz: info@horyzontalny.pl \nRegulamin zapisów:\n💡 W związku z dużym zainteresowaniem\, przypominamy kilka zasad: \n\nKażda osoba zapisuje się samodzielnie – jedna osoba to jeden bilet.\nZapisując się\, zobowiązujesz się do przyjścia.\nJeśli nie możesz dotrzeć\, napisz maila do 12:00 w dniu wydarzenia.\nJeśli się zapiszesz\, ale nie przyjdziesz i nie odwołasz udziału\, tracisz możliwość zapisu na kolejną edycję.\nFormularz jest otwarty do dnia wydarzenia o 12:00 lub do momentu\, gdy lista rezerwowa osiągnie 20 osób.\nOsoby z listy rezerwowej poprzedniego wydarzenia mają pierwszeństwo w zapisach na kolejną edycję.\n\nFormularz zapisu:\n\nAby wypełnić ten formularz\, włącz obsługę JavaScript w przeglądarce.Imię *Email *		\n			byłxś Speed już\n			\n		\n		Czy byłxś już na Speed Debatingu?TakNiePrześlij  \n\n📧 Po zapisaniu się dostaniesz maila z potwierdzeniem w ciągu 24h – jeśli go nie widzisz\, sprawdź folder SPAM lub napisz do nas na: info@horyzontalny.pl\n  \nWesprzyj Horyzontalny Klub Dyskusyjny!\nPodobają Ci się wydarzenia\, które organizuję? Wesprzyj mnie symboliczną kwotą za kawę: \n🔗 https://buycoffee.to/horyzontalny.pl \nlub dołącz do Patronów Horyzontalnego Klubu Dyskusyjnego: \nhttps://patronite.pl/horyzontalny.pl \nNie możemy się doczekać – do zobaczenia przy stolikach! 🎤🔥
URL:https://horyzontalny.pl/event/4-speed-debating-lodz/
LOCATION:Niebostan\, Piotrkowska 17\, Łódź\, 90-406\, Poland
ATTACH;FMTTYPE=image/png:https://horyzontalny.pl/wp-content/uploads/2025/11/Lodz.png
ORGANIZER;CN="Horyzontalny Klub Dyskusyjny":MAILTO:info@horyzontalny.pl
END:VEVENT
BEGIN:VEVENT
DTSTART;TZID=Europe/Warsaw:20251122T190000
DTEND;TZID=Europe/Warsaw:20251122T220000
DTSTAMP:20260419T174353
CREATED:20251031T222916Z
LAST-MODIFIED:20251115T175335Z
UID:127-1763838000-1763848800@horyzontalny.pl
SUMMARY:25. Speed Debating | Warszawa
DESCRIPTION:Przyjdź\, porozmawiaj na ciekawe tematy 🧠\, poznaj nowe osoby 🤝 i poczuj atmosferę horyzontalnej dyskusji! \n📌 Na wydarzenie obowiązuje rejestracja. Udział jest bezpłatny. \nChcesz wesprzeć mnie w organizacji wydarzenia? \nMożesz mi postawić kawę: https://buycoffee.to/horyzontalny.pl \nZapisy ruszą 17 listopada o 12:00. \n🔄 Jak wyglądają rundy? \n\nPo rejestracji zostajesz przypisanx do pierwszego stolika.\nNa każdym stoliku znajdziesz temat debaty i pytania pomocnicze\, które ułatwią formułowanie argumentów.\nKażda dyskusja trwa 10 minut ⏳.\nPo każdej rundzie zmieniasz stolik i poznajesz nowe osoby.\nPrzewidujemy 6 rund!\n\n📢 Dla kogo jest Speed Debating? \nSprawdź tutaj: https://www.horyzontalny.pl/post/dla-kogo-jest-speed-debating \n💡 Co to znaczy horyzontalna dyskusja? \nTo rozmowa\, w której każdy głos ma szansę wybrzmieć 🎙️. Nie chodzi tylko o mówienie\, ale i o uważne słuchanie. Bez względu na to\, czy jesteś gadułą\, czy na co dzień trudno Ci się przebić – tu znajdziesz przestrzeń na swoją opinię! \n🎭 O czym będziemy rozmawiać? \nTematy pozostają niespodzianką! Może poruszymy filozoficzne dylematy\, może traficie na życiowe absurdy\, a może przy stoliku znajdzie się temat w stylu: czy płatki śniadaniowe zalewa się mlekiem\, czy odwrotnie? 🥣 \nNie ważne\, o czym będziecie debatować – to świetna okazja do ćwiczenia rozmowy\, argumentacji i poznania osób o podobnych lub zupełnie odmiennych perspektywach! \n✉ Masz pytania? Napisz: info@horyzontalny.pl \n⚠ Regulamin zapisów: \n💡 W związku z dużym zainteresowaniem\, przypominamy kilka zasad: \n\nZapisując się\, zobowiązujesz się do przyjścia.\nJeśli nie możesz dotrzeć\, napisz maila do 12:00 w dniu wydarzenia.\nJeśli się zapiszesz\, ale nie przyjdziesz i nie odwołasz udziału\, tracisz możliwość zapisu na kolejną edycję.\nFormularz jest otwarty do dnia wydarzenia do 12:00 lub do momentu\, gdy lista rezerwowa osiągnie 20 osób.\nOsoby z listy rezerwowej poprzedniego wydarzenia mają pierwszeństwo w zapisach na kolejną edycję.\n\n💛 Wesprzyj Horyzontalny Klub Dyskusyjny! \nPodobają Ci się wydarzenia\, które organizuję? Wesprzyj mnie symboliczną kwotą za kawę: \n🔗 https://buycoffee.to/horyzontalny.pl \nlub dołącz do Patronów Horyzontalnego Klubu Dyskusyjnego: \nhttps://patronite.pl/horyzontalny.pl \nNie możemy się doczekać – do zobaczenia przy stolikach! 🎤🔥
URL:https://horyzontalny.pl/event/25-speed-debating-warszawa/
LOCATION:Południk 2.0\, Wilcza 25\, Warszawa\, 00-544\, Poland
ATTACH;FMTTYPE=image/png:https://horyzontalny.pl/wp-content/uploads/2025/10/Events-20254.png
ORGANIZER;CN="Horyzontalny Klub Dyskusyjny":MAILTO:info@horyzontalny.pl
END:VEVENT
BEGIN:VEVENT
DTSTART;TZID=Europe/Warsaw:20251115T150000
DTEND;TZID=Europe/Warsaw:20251115T170000
DTSTAMP:20260419T174353
CREATED:20251031T152341Z
LAST-MODIFIED:20251031T225024Z
UID:118-1763218800-1763226000@horyzontalny.pl
SUMMARY:2. Speed Debating | Poznań
DESCRIPTION:Przyjdź\, porozmawiaj na ciekawe tematy 🧠\, poznaj nowe osoby 🤝 i poczuj atmosferę horyzontalnej dyskusji! \n📌 Na wydarzenie obowiązuje rejestracja. Udział jest bezpłatny. \nChcesz wesprzeć mnie w organizacji wydarzenia?  \nMożesz mi postawić kawę: https://buycoffee.to/horyzontalny.pl \n🔄 Jak wyglądają rundy?\n\nPo rejestracji zostajesz przypisanx do pierwszego stolika.\nNa każdym stoliku znajdziesz temat debaty i pytania pomocnicze\, które ułatwią formułowanie argumentów.\nKażda dyskusja trwa 10 minut ⏳.\nPo każdej rundzie zmieniasz stolik i poznajesz nowe osoby.\nPrzewidujemy 6 rund!\n\nDla kogo jest Speed Debating?\nSprawdź tutaj: https://www.horyzontalny.pl/post/dla-kogo-jest-speed-debating \nCo to znaczy horyzontalna dyskusja?\nTo rozmowa\, w której każdy głos ma szansę wybrzmieć 🎙️. Nie chodzi tylko o mówienie\, ale i o uważne słuchanie. Bez względu na to\, czy jesteś gadułą\, czy na co dzień trudno Ci się przebić – tu znajdziesz przestrzeń na swoją opinię! \nO czym będziemy rozmawiać?\nTematy pozostają niespodzianką! Może poruszymy filozoficzne dylematy\, może traficie na życiowe absurdy\, a może przy stoliku znajdzie się temat w stylu: czy płatki śniadaniowe zalewa się mlekiem\, czy odwrotnie? 🥣 \nNie ważne\, o czym będziecie debatować – to świetna okazja do ćwiczenia rozmowy\, argumentacji i poznania osób o podobnych lub zupełnie odmiennych perspektywach! \n📅 Kiedy? 15 listopada\, 15:00 \n📍 Gdzie? People of Real Narnia\, Poznań \n✉ Masz pytania? Napisz: info@horyzontalny.pl \nRegulamin zapisów:\n💡 W związku z dużym zainteresowaniem\, przypominamy kilka zasad: \n\nZapisując się\, zobowiązujesz się do przyjścia.\nJeśli nie możesz dotrzeć\, napisz maila do 12:00 w dniu wydarzenia.\nJeśli się zapiszesz\, ale nie przyjdziesz i nie odwołasz udziału\, tracisz możliwość zapisu na kolejną edycję.\nFormularz jest otwarty do 15 listopada\, 12:00 lub do momentu\, gdy lista rezerwowa osiągnie 20 osób.\nOsoby z listy rezerwowej poprzedniego wydarzenia mają pierwszeństwo w zapisach na kolejną edycję.\n\nWesprzyj Horyzontalny Klub Dyskusyjny!\nPodobają Ci się wydarzenia\, które organizuję? Wesprzyj mnie symboliczną kwotą za kawę: \n🔗 https://buycoffee.to/horyzontalny.pl \nlub dołącz do Patronów Horyzontalnego Klubu Dyskusyjnego: \nhttps://patronite.pl/horyzontalny.pl \nNie możemy się doczekać – do zobaczenia przy stolikach! 🎤🔥
URL:https://horyzontalny.pl/event/2-speed-debating-w-poznaniu/
LOCATION:People of Real Narnia\, Wodna 7\, Poznań\, Wodna 7\, Poznań\, Poland
ATTACH;FMTTYPE=image/png:https://horyzontalny.pl/wp-content/uploads/2025/10/Poznan.png
ORGANIZER;CN="Horyzontalny Klub Dyskusyjny":MAILTO:info@horyzontalny.pl
END:VEVENT
END:VCALENDAR